Workbook

Sheet Consignes
A2: Programme Protéger les habitats fauniques - volet 2 - Taxes municipales et scolaires
A3: Formulaire de demande d'aide
A5: Année financière: 2026-2027
A8: Instructions générales :
A10: 1. Utilisez le formulaire téléchargé directement du site Internet de la Fondation de la faune.
A11: 2. Utilisez l'application Microsoft Excel.
A12: 3. Remplissez les 3 sections (onglets) de ce formulaire. Une demande incomplète pourrait ne pas être traitée.
A13: 4. Avant de déposer une demande d'aide financière, assurez-vous de répondre aux conditions d'admissibilité qui sont inscrites dans le document d'information du programme. Celui-ci est disponible sur le site Internet de la Fondation.
A14: 5. Le(s) compte(s) de taxes municipales 2026 et le(s) compte(s) de taxes scolaires 2026-2027 sont actuellement traités.
A15: 6. Lorsque complété, transmettre le formulaire et les pièces exigées à l'adresse suivante : programmetaxes@fondationdelafaune.qc.ca
A16: Si le nombre de documents à transmettre est trop élévé, communiquez avec la Fondation pour convenir d'une procédure de transfert adéquate.
A17: 7. Pour obtenir des renseignements supplémentaires sur ce programme d'aide, veuillez communiquer avec la Fondation de la faune par courriel à cette adresse : programmetaxes@fondationdelafaune.qc.ca
... A21: Instructions :
A22: 1. | B22: Veuillez compléter et /ou vérifier les informations présentes dans cette section.
A26: Section 2. Informations relatives aux comptes de taxes pour les propriétés admissibles
A28: Instructions :
A29: 1. | B29: Chaque ligne du tableau correspond à une unité d'évaluation. Dans la majorité des cas, une seule propriété est incluse dans une unité d'évaluation. Si plus d'une propriété est incluse dans une unité, précisez le nombre et écrivez le nom des propriétés concernées dans les colonnes prévues à cet effet. | H29: 4. | I29: Pour chaque unité d'évaluation, le montant admissible à une aide financière est calculé de façon automatique en excluant la portion des montants des comptes de taxes non admissibles, c'est-à-dire, la portion liée aux bâtiments et celle liée à la superficie du terrain qui n'est pas gérée à des fins d'aires protégées. Une explication du calcul de l'aide financière admissible est disponible en annexe du document d'information du programme.
A31: 2. | B31: Pour chaque unité d'évaluation, identifiez le(s) numéro(s) d'identifiant de l'aire protégée tel qu'inscrit au registre des aires protégées (MACODE) ou, le cas échéant, celui du répertoire des sites de conservation volontaire du RMN (ID du site). | H31: 5. | I31: Assurez-vous que les informations inscrites dans le formulaire soient identiques à celles trouvées sur les comptes de taxes. Attention : écrire la valeur inscrite et non la valeur uniformisée. Veuillez écrire le montant total des taxes municipales et scolaires tel qu'inscrit sur les comptes.
A32: 3. | B32: Pour les superficies, portez une attention particulière aux unités de mesure et évitez d'arrondir les chiffres. La superficie de l'unité d'évaluation doit être en mètres carrés (m2) et se trouve sur le compte de taxes municipales (ou le rôle d'évaluation foncière) et la superficie gérée à des fins d'aires protégées doit être en hectare (ha) et se trouve sur le registre des aires protégées ou, le cas échéant, dans le répertoire des sites de conservation volontaire du RMN. À noter qu'un hectare est égal à 10 000 m2. (Exemple : 1 286 906 m2 est égal à 128,6906 ha). | H32: 6. | I32: Si plus de deux éléments doivent être inscrits dans un même champ, ceux-ci doivent être séparés par un " ; " et utilisez la "," pour les chiffres de superficies, les valeurs et les montants des taxes.
A36: Section 3. Sommaire de la demande / Obligations et engagement du demandeur
A38: Instructions:
A39: 1. | B39: Pour que la demande soit valide, le montant demandé doit être confirmé (rubrique A; Somaire de la demande) et le demandeur doit s'engager à respecter les obligations présentées à la section C. La demande sera traitée uniquement si les cases des rubriques A et D sont cochées.
A40: 2. | B40: Le formulaire et les pièces spécifiées à la rubrique B doivent être transmises par courriel à l'adresse : programmetaxes@fbfq.ca

Sheet Section 1 - Demandeur
A1: Section 1. Identification du demandeur
A2: A) Catégorie de demandeur : (Inscrire un X à votre catégorie)
C4: Organisme de conservation ou fiducie d'utilité sociale (OSBL) | D4: Autres propriétaires de réserves naturelles reconnues :
E5: OSBL (Remplir la section B)
C6: (Remplir la section B) | E6: OBL (Remplir la section B)
E7: Particulier (Remplir la section C)
A9: B) Informations sur l'organisme :
A11: Nom de l'organisme : | F11: Adresse de correspondance (si différente de l'adresse du siège social) :
A12: Adresse du siège social :
A13: Adresse :
F14: Adresse :
A15: Ville :
F16: Ville :
A17: Province :
F18: Province : | H18: Québec
A19: Code postal :
F20: Code postal :
A21: Région administrative :
F22: Région administrative :
A23: NEQ :
A25: TVQ (pour les OBL uniquement):
F26: Personne responsable du suivi de la demande :
A27: Représentant de l'organisme autorisé à signer la demande, conforme à la résolution jointe :
F28: Salutations :
A29: Salutations :
F30: Prénom :
A31: Prénom :
F32: Nom :
A33: Nom :
F34: Fonction :
A35: Fonction :
F36: Téléphone bureau :
A37: Téléphone bureau : | F37: Poste :
A39: Poste :
F40: Cellulaire :
A41: Cellulaire :
F42: Courriel :
A43: Courriel :
A46: C) Informations sur le demandeur (particulier):
A48: Salutations :
A50: Prénom :
A52: Nom :
A54: Adresse :
A56: Ville :
A58: Province : | C58: Québec
A60: Code postal :
A62: Région administrative :
A64: Téléphone :
A66: Courriel :

Sheet Section 2 - Unités d'évaluation
A1: No ref | B1: Nombre de propriétés incluses dans l'unité d'évaluation | C1: MACODE | D1: ID au répertoire du RMN | E1: Nom de la ou des propriétés (Nom officiel inscrit au RMN / MELCCFP) | F1: Type de propriétés admissibles | G1: Municipalité | H1: Numéro de matricule de l'unité d'évaluation | I1: Cadastre(s) | J1: Superficie de terrain dans l'unité d'évaluation (m2) | K1: Superficie du terrain gérée à des fins d'aires protégées en hectares (ha) | L1: Valeur du terrain | M1: Valeur du bâtiment | N1: Valeur inscrite (au compte de taxes) | O1: Taxes scolaires 2026-2027 | P1: Taxes municipales 2026 | Q1: Total Montant admissible
A2: Exemple: | B2: 1 | C2: 12225 | D2: Z4275 | E2: Réserve naturelle du ruisseau de l'Église | F2: Réserve naturelle reconnue | G2: Beaumont | H2: 9110 57 0675 | I2: 5 191 674;6 523 176 | J2: 190569.7 | K2: 12.05 | L2: 95300 | M2: 18700 | N2: 114000 | O2: 344.58 | P2: 1128.79 | Q2: =IFERROR(((L2/N2)*((K2/(J2/10000))))*(O2+P2),0) -> 778.81278
A3: 1 | Q3: =IFERROR(((L3/N3)*((K3/(J3/10000))))*(O3+P3),0) -> 0
A4: 2 | Q4: =IFERROR(((L4/N4)*((K4/(J4/10000))))*(O4+P4),0) -> 0
A5: 3 | Q5: =IFERROR(((L5/N5)*((K5/(J5/10000))))*(O5+P5),0) -> 0
A6: 4 | Q6: =IFERROR(((L6/N6)*((K6/(J6/10000))))*(O6+P6),0) -> 0
A7: 5 | Q7: =IFERROR(((L7/N7)*((K7/(J7/10000))))*(O7+P7),0) -> 0
A8: 6 | Q8: =IFERROR(((L8/N8)*((K8/(J8/10000))))*(O8+P8),0) -> 0
A9: 7 | Q9: =IFERROR(((L9/N9)*((K9/(J9/10000))))*(O9+P9),0) -> 0
A10: 8 | Q10: =IFERROR(((L10/N10)*((K10/(J10/10000))))*(O10+P10),0) -> 0
A11: 9 | Q11: =IFERROR(((L11/N11)*((K11/(J11/10000))))*(O11+P11),0) -> 0
A12: 10 | Q12: =IFERROR(((L12/N12)*((K12/(J12/10000))))*(O12+P12),0) -> 0
A13: 11 | Q13: =IFERROR(((L13/N13)*((K13/(J13/10000))))*(O13+P13),0) -> 0
A14: 12 | Q14: =IFERROR(((L14/N14)*((K14/(J14/10000))))*(O14+P14),0) -> 0
... A356: 354 | Q356: =IFERROR(((L356/N356)*((K356/(J356/10000))))*(O356+P356),0) -> 0

Sheet Section 3 - Sommaire-Engagement
C1: A) Sommaire de la demande
E2: Nb d'unité(s) d'évaluation :
C3: Montant demandé: | D3: =SUM('Section 2 - Unités d''évaluation'!Q3:Q356) -> 0 | F3: =COUNT('Section 2 - Unités d''évaluation'!B3:B356) -> 0
C5: * Le montant demandé est calculé en fonction des informations transmises à la section 2 de ce formulaire. Celui-ci correspond au total des montants admissibles pour chaque unité d'évaluation.
C7: Cochez la case suivante : (mettre un X dans la case)
C9: Je confirme que j'ai validé le montant demandé et que celui-ci est conforme.
C11: B) Pièces à joindre
C13: Formulaire dûment rempli.
C15: Résolution stipulant que la personne autorisée à signer la demande au nom de l'organisme est celle indiquée à la section 1 de ce formulaire (pour les organismes).
C17: Une copie certifiée conforme des lettres patentes ou de l'acte de fiducie qui comprend une déclaration complète de la raison d’être et des objectifs de l’organisme (pour les organismes de conservation et les fiducies d'utilité sociale uniquement).
C19: Pour chaque unité d'évaluation inscrite à la section 2, fournir un document en format PDF comprenant une copie du compte de taxes municipales 2026 et des comptes de taxes scolaires 2026-2027. Ce document doit être nommé avec le numéro de matricule de l'unité d'évaluation ou encore avec le numéro de référence automatisé attribué à la section 2 du formulaire.
C21: C) Obligations du demandeur
C23: 1) Remplir le formulaire de demande d’aide financière fourni par la Fondation et le transmettre, ainsi que les pièces exigées, avant le 1er décembre.
C25: 2) Être le propriétaire de la ou des propriété(s) faisant l'objet de la demande et s’assurer qu’il n’existe aucun arrérage de taxes municipales et scolaires sur cette ou ces propriétés.
C27: 3) Vérifier que les informations qui se trouvent dans le formulaire sont véridiques et s’assurer que les propriétés pour lesquelles une aide financière est demandée rencontrent les conditions d’admissibilité de l’aide financière.
... C38: je comprends que toute déclaration incomplète, inexacte, fausse ou mensongère pourra entraîner l’obligation de ma part ou de la part de mon organisation de rembourser les sommes qui lui auront été versées par la Fondation.
C40: Nom | E40: Date (AAAA-MM-JJ)

Sheet Feuil1
A1: Région administrative | D1: Salutations
A2: 01. Bas-Saint-Laurent | D2: Monsieur
A3: 02. Saguenay–Lac-Saint-Jean | D3: Madame
A4: 03. Capitale-Nationale
A5: 04. Mauricie
A6: 05. Estrie
A7: 06. Montréal
A8: 07. Outaouais
A9: 08. Abitibi-Témiscaminque
A10: 09. Côte-Nord
A11: 10. Nord-du-Québec
A12: 11. Gaspésie-Îles-de-la-Madeleine
A13: 12. Chaudière Appalaches
A14: 13. Laval
A15: 14. Lanaudière
... A18: 17. Centre-du-Québec

Sheet donnees
A1: Type de propriétés admissibles
A2: Réserve naturelle reconnue
A3: Milieu naturel de conservation volontaire
A4: Autre propriété gérée à des fins d'aires protégées

Sheet Demande
A1: Type | B1: uuid | C1: Organisme | D1: Adresse head | E1: Ville head | F1: Province head | G1: Code postal head | H1: Région administrative head | I1: TVQ | J1: NAS | K1: NEQ | L1: Salutations representant | M1: Prénom representant | N1: Nom representant | O1: fonction representant | P1: Téléphone bureau representant | Q1: Poste representant | R1: Cellulaire representant | S1: Courriel representant | T1: Salutations particulier | U1: Prénom particulier | V1: Nom Particulier | W1: Adresse particulier | X1: Ville particulier | Y1: Province particulier | Z1: Code postal particulier | AA1: Cellulaire particulier | AB1: Courriel particulier | AC1: Région administrative particulier | AD1: Adresse correspondance | AE1: Ville correspondance | AF1: Province correspondance | AG1: Code postal correspondance | AH1: Région administrative correspondance | AI1: Taxes scolaires 2021-2022 Montant admissible | AJ1: Taxes municipales 2021 Montant Admissible | AK1: Total montant admissible | AL1: Nb propriété | AM1: Demandeur | AN1: Date consentement | AO1: Confirmation du montant | AP1: Confirmation pris connaissance obligations | AQ1: Confirmation renseignements sont veridiques | AR1: IsOrganisme Conservation | AS1: IsOSBL | AT1: IsOBL | AU1: IsParticulier | AV1: id | AW1: Salutation responsable | AX1: prénom responsable | AY1: Nom Responsable | AZ1: Fonction Responsable | BA1: téléphone bureau responsable | BB1: poste telephone responsable | BC1: cellulaire responsable | BD1: courriel responsable
C2: ='Section 1 - Demandeur'!C11 -> 0 | D2: ='Section 1 - Demandeur'!C13 -> 0 | E2: ='Section 1 - Demandeur'!C15 -> 0 | F2: ='Section 1 - Demandeur'!C17 -> 0 | G2: ='Section 1 - Demandeur'!C19 -> 0 | H2: ='Section 1 - Demandeur'!C21 -> 0 | I2: ='Section 1 - Demandeur'!C25 -> 0 | K2: ='Section 1 - Demandeur'!C23 -> 0 | L2: ='Section 1 - Demandeur'!C29 -> 0 | M2: ='Section 1 - Demandeur'!C31 -> 0 | N2: ='Section 1 - Demandeur'!C33 -> 0 | O2: ='Section 1 - Demandeur'!C35 -> 0 | P2: ='Section 1 - Demandeur'!C37 -> 0 | Q2: ='Section 1 - Demandeur'!C39 -> 0 | R2: ='Section 1 - Demandeur'!C41 -> 0 | S2: ='Section 1 - Demandeur'!C43 -> 0 | T2: ='Section 1 - Demandeur'!C48 -> 0 | U2: ='Section 1 - Demandeur'!C50 -> 0 | V2: ='Section 1 - Demandeur'!C52 -> 0 | W2: ='Section 1 - Demandeur'!C54 -> 0 | X2: ='Section 1 - Demandeur'!C56 -> 0 | Y2: ='Section 1 - Demandeur'!C58 -> Québec | Z2: ='Section 1 - Demandeur'!C60 -> 0 | AA2: ='Section 1 - Demandeur'!C64 -> 0 | AB2: ='Section 1 - Demandeur'!C66 -> 0 | AC2: ='Section 1 - Demandeur'!C62 -> 0 | AD2: ='Section 1 - Demandeur'!H14 -> 0 | AE2: ='Section 1 - Demandeur'!H16 -> 0 | AF2: ='Section 1 - Demandeur'!H18 -> Québec | AG2: ='Section 1 - Demandeur'!H20 -> 0 | AH2: ='Section 1 - Demandeur'!H22 -> 0 | AK2: =SUM('Section 2 - Unités d''évaluation'!Q3:Q356) -> 0 | AL2: =SUM('Section 2 - Unités d''évaluation'!B3:B356) -> 0 | AN2: ='Section 3 - Sommaire-Engagement'!F40 -> 0 | AO2: ='Section 3 - Sommaire-Engagement'!B9 -> 0 | AP2: ='Section 3 - Sommaire-Engagement'!B35 -> 0 | AQ2: ='Section 3 - Sommaire-Engagement'!B37 -> 0 | AW2: ='Section 1 - Demandeur'!H28 -> 0 | AX2: ='Section 1 - Demandeur'!H30 -> 0 | AY2: ='Section 1 - Demandeur'!H32 -> 0 | AZ2: ='Section 1 - Demandeur'!H34 -> 0 | BA2: ='Section 1 - Demandeur'!H36 -> 0 | BB2: ='Section 1 - Demandeur'!H37 -> 0 | BC2: ='Section 1 - Demandeur'!H40 -> 0 | BD2: ='Section 1 - Demandeur'!H42 -> 0
